BEGIN:VCALENDAR
VERSION:2.0
PRODID:-//VAFSP | Virginia Alliance of Family Services Practitioners - ECPv6.15.17.1//NONSGML v1.0//EN
CALSCALE:GREGORIAN
METHOD:PUBLISH
X-WR-CALNAME:VAFSP | Virginia Alliance of Family Services Practitioners
X-ORIGINAL-URL:https://vafsp.com
X-WR-CALDESC:Events for VAFSP | Virginia Alliance of Family Services Practitioners
REFRESH-INTERVAL;VALUE=DURATION:PT1H
X-Robots-Tag:noindex
X-PUBLISHED-TTL:PT1H
BEGIN:VTIMEZONE
TZID:UTC
BEGIN:STANDARD
TZOFFSETFROM:+0000
TZOFFSETTO:+0000
TZNAME:UTC
DTSTART:20250101T000000
END:STANDARD
END:VTIMEZONE
BEGIN:VEVENT
DTSTART;TZID=UTC:20260420T083000
DTEND;TZID=UTC:20260520T170000
DTSTAMP:20260420T085018
CREATED:20260420T070027Z
LAST-MODIFIED:20260417T190428Z
UID:409-1776673800-1779296400@vafsp.com
SUMMARY:Vote for your new ALLIANCE-Executive Team (2026-2028)
DESCRIPTION:Greetings ALLIANCE Members…. \n\nThe time has come to select your new ALLIANCE Executive Team for the term July 2026 to June 2028…\nThe ballots will be sent out Monday\, April 20\, 2026\, to active members of The ALLIANCE.\nYou will receive an email with the official ballot\, from Sarah Warner of Lynchburg.\nOur devoted member Otissa Williams (otissa.williams@rva.gov) will be receiving the 2026-2028 Executive Team Ballots.\nOtissa is collecting only.  Ballots will be sent by sarah.warner@lynchburgva.gov\nBallots are due by end of day May 20\, 2026\, to otissa.williams@rva.gov \n\n 
URL:https://vafsp.com/event/vote-for-your-new-alliance-executive-team-2026-2028/
CATEGORIES:ballot,Membership,voting
ORGANIZER;CN="VAFSP":MAILTO:contact@vafsp.com
END:VEVENT
BEGIN:VEVENT
DTSTART;TZID=UTC:20260518T100000
DTEND;TZID=UTC:20260518T110000
DTSTAMP:20260420T085018
CREATED:20260412T182135Z
LAST-MODIFIED:20260412T182135Z
UID:398-1779098400-1779102000@vafsp.com
SUMMARY:Alliance - Professional Development Committee Meeting
DESCRIPTION:All members are invited. \nThis meeting is about Professional Development\, which covers CONFERENCES & trainings\, etc \nPlease bring your concerns to the “Forum” page of the website. \nPlease use the “Forum” page for an open discussion\, bring your concerns\, ideas and your suggestions \nProfessional Development Committee Meeting\n\n\n________________________________________________________________________________\nMicrosoft Teams meeting\nJoin: https://teams.microsoft.com/meet/2375901978529?p=9d6Ed10gNoNDVu9gUH\nMeeting ID: 237 590 197 852 9\nPasscode: tj9ZG6hn\n\n\n\nNeed help? |  System reference\nFor organizers: Meeting options\nOrg help\n________________________________________________________________________________
URL:https://vafsp.com/event/alliance-professional-development-committee-meeting/
LOCATION:Microsoft Teams Virtual Meeting
CATEGORIES:Committee,Professional Development
ORGANIZER;CN="VAFSP":MAILTO:contact@vafsp.com
END:VEVENT
BEGIN:VEVENT
DTSTART;TZID=UTC:20260519T100000
DTEND;TZID=UTC:20260519T110000
DTSTAMP:20260420T085018
CREATED:20260410T060004Z
LAST-MODIFIED:20260412T183046Z
UID:385-1779184800-1779188400@vafsp.com
SUMMARY:Alliance Adult Committee May 2026 Meeting
DESCRIPTION:Alliance Adult Committee May 2026 Meeting \nMay 19\, 2026\, 10:00 – 11:00AM \nAlliance Adult Committee Meeting\nAll are welcome.\nCheck the website “Forums” page for open discussions and hot topics.\n\n\n________________________________________________________________________________\nMicrosoft Teams meeting\nJoin: https://teams.microsoft.com/meet/215168093820206?p=D2OT3Xh74QuLYp2DmB\nMeeting ID: 215 168 093 820 206\nPasscode: kR6MQ7uJ\n\n\n\nNeed help? |  System reference\nFor organizers: Meeting options\nOrg help\n________________________________________________________________________________
URL:https://vafsp.com/event/alliance-adult-committee-may-2026-meeting/
LOCATION:Microsoft Teams Virtual Meeting
CATEGORIES:Adult,Committee,Virtual Meeting
ORGANIZER;CN="VAFSP":MAILTO:contact@vafsp.com
END:VEVENT
BEGIN:VEVENT
DTSTART;TZID=UTC:20260520T143000
DTEND;TZID=UTC:20260520T153000
DTSTAMP:20260420T085018
CREATED:20260410T060040Z
LAST-MODIFIED:20260412T183106Z
UID:382-1779287400-1779291000@vafsp.com
SUMMARY:Alliance- Child & Family Committee May '26 Meeting
DESCRIPTION:Alliance Child & Family Committee May Meeting\nAll are invited to the Child & Family Committee Meeting\nHot topics will be in the Child & Family Forum; it’s open for discussion.\n________________________________________________________________________________\nMicrosoft Teams meeting\nJoin: https://teams.microsoft.com/meet/26428053672940?p=6M6iX92w1UV38OrXpb\nMeeting ID: 264 280 536 729 40\nPasscode: Gv9yW3e7 \n\nNeed help? |  System reference\nFor organizers: Meeting options\nOrg help\n________________________________________________________________________________
URL:https://vafsp.com/event/alliance-child-family-committee-may-26-meeting/
LOCATION:Microsoft Teams Virtual Meeting
ORGANIZER;CN="VAFSP":MAILTO:contact@vafsp.com
END:VEVENT
BEGIN:VEVENT
DTSTART;TZID=UTC:20260521T143000
DTEND;TZID=UTC:20260521T153000
DTSTAMP:20260420T085018
CREATED:20260412T182753Z
LAST-MODIFIED:20260412T182753Z
UID:401-1779373800-1779377400@vafsp.com
SUMMARY:Alliance - Legislative Committee Meeting
DESCRIPTION:Legislative Committee Meeting \nMay 21\, 2026 at 230pm to 3:30pm \nPlease use the “Forum” page for an open discussion on concerns and hot topics. \nPlease come with suggestions\, concerns\, concerns. \nAlliance Legislative Commitee Meeting\n\n\n________________________________________________________________________________\nMicrosoft Teams meeting\nJoin: https://teams.microsoft.com/meet/270483698501194?p=9XmQKTOKlCmOROT8PA\nMeeting ID: 270 483 698 501 194\nPasscode: UM2zW2DR\n\n\n\nNeed help? |  System reference\nFor organizers: Meeting options\nOrg help\n________________________________________________________________________________
URL:https://vafsp.com/event/alliance-legislative-committee-meeting/
LOCATION:Microsoft Teams Virtual Meeting
CATEGORIES:Committee,Legislative,Virtual Meeting
ORGANIZER;CN="VAFSP":MAILTO:contact@vafsp.com
END:VEVENT
END:VCALENDAR